BEGIN:VCALENDAR
PRODID:-//kirchenweb.ch gmbh//veranstaltungsausgabe v2.0//DE
VERSION:2.0
METHOD:PUBLISH
BEGIN:VEVENT
DTSTART:20260603T060000Z
DTEND:20260603T064500Z
LOCATION:Krypta\, Kirchgemeindehaus\, Freiestrasse 10\, 8500 Frauenfeld
TRANSP:OPAQUE
SEQUENCE:0
UID:73573-veranstaltung@evang-frauenfeld.ch
DTSTAMP:20251204T154746Z
DESCRIPTION:Wöchentliche Gebetsgruppe\n\nWir singen ein Lied aus dem
  Kirchengesangbuch\, \nlesen einen Psalm\, tauschen Gebetsanliegen aus und
  \nbeten gemeinsam für diese Anliegen\, unterbrochen \ndurch ein paar
  Lieder aus dem Liederbuch 'Rückenwind'.  \n\nUns leitet dieser Vers aus
  Jeremia 29\,7 an:\nSuchet der Stadt Bestes\, dahin ich euch habe lassen
  wegführen\, und betet für sie zum Herrn; denn wenn's ihr wohl geht\, so
  geht's auch euch wohl.\n\nSie sind herzlich willkommen und dürfen auch
  mal ungeniert vorbeischauen.\n\n\n\n\nKontakt: Wolfgang Ackerknecht\n
 \nWeitere Infos: https://www.evang-frauenfeld.ch/veranstaltung/73573
SUMMARY:Gebet am Mittwochmorgen
PRIORITY:5
X-MICROSOFT-CDO-IMPORTANCE:1
CLASS:PUBLIC
END:VEVENT
END:VCALENDAR
