BEGIN:VCALENDAR
PRODID:-//kirchenweb.ch gmbh//veranstaltungsausgabe v2.0//DE
VERSION:2.0
METHOD:PUBLISH
BEGIN:VEVENT
DTSTART;VALUE=DATE:20260710
DTEND;VALUE=DATE:20260711
LOCATION:Wildhaus\, \,
TRANSP:OPAQUE
SEQUENCE:0
UID:72547-veranstaltung@evang-frauenfeld.ch
DTSTAMP:20250821T061016Z
DESCRIPTION:Das Kindersommerlager für 1. - 6. Klasse in Wildhaus SG.\n
 \nWeitere Informationen findest auf der Infoseite:
  https://www.evang-frauenfeld.ch/Kinderlager\n\nKontakt:
  philipp.uebersax@evang-frauenfeld.ch\n\nWeitere Infos:
  https://www.evang-frauenfeld.ch/veranstaltung/72547
SUMMARY:Kindersommerlager 2026
PRIORITY:5
X-MICROSOFT-CDO-IMPORTANCE:1
CLASS:PUBLIC
END:VEVENT
END:VCALENDAR
