BEGIN:VCALENDAR
PRODID:-//kirchenweb.ch gmbh//veranstaltungsausgabe v2.0//DE
VERSION:2.0
METHOD:PUBLISH
BEGIN:VEVENT
DTSTART:20260602T144500Z
DTEND:20260602T154500Z
LOCATION:VIVA\, Rheinstrasse 46\, 8500 Frauenfeld
TRANSP:OPAQUE
SEQUENCE:0
UID:71623-veranstaltung@evang-frauenfeld.ch
DTSTAMP:20250701T094020Z
DESCRIPTION:Kontakt: Rahel Frei\n\nWeitere Infos:
  https://www.evang-frauenfeld.ch/veranstaltung/71623
SUMMARY:InMotion
PRIORITY:5
X-MICROSOFT-CDO-IMPORTANCE:1
CLASS:PUBLIC
END:VEVENT
END:VCALENDAR
